BEGIN:VCALENDAR
VERSION:2.0
PRODID:-//hacksw/handcal//NONSGML v1.0//EN
BEGIN:VEVENT
SUMMARY:Soiree "fete des jeunes"
UID:b79c6146-011a-4854-b4a3-3b87aac0c62f
DTSTART:20260502T173000Z
DTEND:20260502T203000Z
LOCATION:Salle ORION salle orion 72250 PARIGNE L'EVEQUE
CATEGORIES:Festif
STATUS:
DESCRIPTION:<h1 style="text-align: center;"><strong><span
 style="color:#c0392b;">soiree proposee par le CA jeunes du TTC
 Parigne</span></strong></h1>
 
 <p><span
 style="color:#c0392b;"><em><strong>inscription a la
 salle</strong></em></span></p>
URL;VALUE=URI:https://www.ttcparigne.fr/evenements/2026/05/02/soiree-fete-des-jeunes-2440023
END:VEVENT
END:VCALENDAR
